BEGIN:VCALENDAR
VERSION:2.0
PRODID:-//Facultad Politécnica - ECPv6.15.11//NONSGML v1.0//EN
CALSCALE:GREGORIAN
METHOD:PUBLISH
X-ORIGINAL-URL:https://www.pol.una.py
X-WR-CALDESC:Eventos para Facultad Politécnica
REFRESH-INTERVAL;VALUE=DURATION:PT1H
X-Robots-Tag:noindex
X-PUBLISHED-TTL:PT1H
BEGIN:VTIMEZONE
TZID:America/Asuncion
BEGIN:STANDARD
TZOFFSETFROM:-0300
TZOFFSETTO:-0400
TZNAME:-04
DTSTART:20220327T030000
END:STANDARD
BEGIN:DAYLIGHT
TZOFFSETFROM:-0400
TZOFFSETTO:-0300
TZNAME:-03
DTSTART:20221002T040000
END:DAYLIGHT
BEGIN:STANDARD
TZOFFSETFROM:-0300
TZOFFSETTO:-0400
TZNAME:-04
DTSTART:20230326T030000
END:STANDARD
BEGIN:DAYLIGHT
TZOFFSETFROM:-0400
TZOFFSETTO:-0300
TZNAME:-03
DTSTART:20231001T040000
END:DAYLIGHT
BEGIN:STANDARD
TZOFFSETFROM:-0300
TZOFFSETTO:-0400
TZNAME:-04
DTSTART:20240324T030000
END:STANDARD
BEGIN:DAYLIGHT
TZOFFSETFROM:-0400
TZOFFSETTO:-0300
TZNAME:-03
DTSTART:20241006T040000
END:DAYLIGHT
END:VTIMEZONE
BEGIN:VEVENT
DTSTART;TZID=America/Asuncion:20231215T150000
DTEND;TZID=America/Asuncion:20231215T160000
DTSTAMP:20260419T085805
CREATED:20231214T124547Z
LAST-MODIFIED:20231214T124547Z
UID:49701-1702652400-1702656000@www.pol.una.py
SUMMARY:Entrega de Reconocimiento - Comité de Ética
DESCRIPTION:Visitas: 6
URL:https://www.pol.una.py/event/entrega-de-reconocimiento-comite-de-etica/
LOCATION:Sala de Consejo\, Facultad Politécnica - UNA\, San Lorenzo\, Paraguay
ATTACH;FMTTYPE=image/png:https://www.pol.una.py/wp-content/uploads/placa-web-para-texto-largo-34.png
END:VEVENT
BEGIN:VEVENT
DTSTART;TZID=America/Asuncion:20231215T180000
DTEND;TZID=America/Asuncion:20231215T200000
DTSTAMP:20260419T085805
CREATED:20231214T123349Z
LAST-MODIFIED:20231214T123349Z
UID:49697-1702663200-1702670400@www.pol.una.py
SUMMARY:Entrega de Certificados de Diplomados
DESCRIPTION:Visitas: 6
URL:https://www.pol.una.py/event/entrega-de-certificados-de-diplomados/
LOCATION:Aula Magna\, Facultad Politécnica - UNA\, San Lorenzo\, Paraguay
ATTACH;FMTTYPE=image/png:https://www.pol.una.py/wp-content/uploads/2022/11/Diplomados-03.png
END:VEVENT
END:VCALENDAR