BEGIN:VCALENDAR
VERSION:2.0
PRODID:-//Facultad Politécnica - ECPv6.15.11//NONSGML v1.0//EN
CALSCALE:GREGORIAN
METHOD:PUBLISH
X-ORIGINAL-URL:https://www.pol.una.py
X-WR-CALDESC:Eventos para Facultad Politécnica
REFRESH-INTERVAL;VALUE=DURATION:PT1H
X-Robots-Tag:noindex
X-PUBLISHED-TTL:PT1H
BEGIN:VTIMEZONE
TZID:America/Asuncion
BEGIN:STANDARD
TZOFFSETFROM:-0300
TZOFFSETTO:-0400
TZNAME:-04
DTSTART:20250323T030000
END:STANDARD
BEGIN:DAYLIGHT
TZOFFSETFROM:-0400
TZOFFSETTO:-0300
TZNAME:-03
DTSTART:20251005T040000
END:DAYLIGHT
BEGIN:STANDARD
TZOFFSETFROM:-0300
TZOFFSETTO:-0400
TZNAME:-04
DTSTART:20260322T030000
END:STANDARD
BEGIN:DAYLIGHT
TZOFFSETFROM:-0400
TZOFFSETTO:-0300
TZNAME:-03
DTSTART:20261004T040000
END:DAYLIGHT
BEGIN:STANDARD
TZOFFSETFROM:-0300
TZOFFSETTO:-0400
TZNAME:-04
DTSTART:20270328T030000
END:STANDARD
BEGIN:DAYLIGHT
TZOFFSETFROM:-0400
TZOFFSETTO:-0300
TZNAME:-03
DTSTART:20271003T040000
END:DAYLIGHT
END:VTIMEZONE
BEGIN:VEVENT
DTSTART;TZID=America/Asuncion:20260505T190000
DTEND;TZID=America/Asuncion:20260505T210000
DTSTAMP:20260423T190926
CREATED:20260423T141758Z
LAST-MODIFIED:20260423T141826Z
UID:76423-1778007600-1778014800@www.pol.una.py
SUMMARY:Master Class - Generación de AsistentesEducativos con IA
DESCRIPTION:Visitas: 3
URL:https://www.pol.una.py/event/master-class-generacion-de-asistenteseducativos-con-ia/
LOCATION:Coworking Bloque I FPUNA\, Facultad Politécnica - UNA\, San Lorenzo\, Paraguay
ATTACH;FMTTYPE=image/jpeg:https://www.pol.una.py/wp-content/uploads/Master-Class-Cit1.0-scaled.jpg
ORGANIZER;CN="Departamento de Extension Univesitaria":MAILTO:scanete@pol.una.py
END:VEVENT
END:VCALENDAR