BEGIN:VCALENDAR
VERSION:2.0
PRODID:-//Facultad Politécnica - ECPv6.15.11//NONSGML v1.0//EN
CALSCALE:GREGORIAN
METHOD:PUBLISH
X-WR-CALNAME:Facultad Politécnica
X-ORIGINAL-URL:https://www.pol.una.py
X-WR-CALDESC:Eventos para Facultad Politécnica
REFRESH-INTERVAL;VALUE=DURATION:PT1H
X-Robots-Tag:noindex
X-PUBLISHED-TTL:PT1H
BEGIN:VTIMEZONE
TZID:America/Argentina/Buenos_Aires
BEGIN:STANDARD
TZOFFSETFROM:-0300
TZOFFSETTO:-0300
TZNAME:-03
DTSTART:20240101T000000
END:STANDARD
END:VTIMEZONE
BEGIN:VEVENT
DTSTART;TZID=America/Argentina/Buenos_Aires:20251219T090000
DTEND;TZID=America/Argentina/Buenos_Aires:20251219T110000
DTSTAMP:20260422T012104
CREATED:20251209T125626Z
LAST-MODIFIED:20251218T171535Z
UID:73380-1766134800-1766142000@www.pol.una.py
SUMMARY:Taller de Optimización - 3ra Edición
DESCRIPTION:Visitas: 24
URL:https://www.pol.una.py/event/taller-de-optimizacion-3ra-edicion/
LOCATION:B02 – Sala de Postgrado\, Facultad Politécnica - UNA\, San Lorenzo\, Paraguay
ATTACH;FMTTYPE=image/webp:https://www.pol.una.py/wp-content/uploads/Post_Taller-Optimizacion_3ra-Ed-1.webp
END:VEVENT
END:VCALENDAR